BEGIN:VCALENDAR
VERSION:2.0
PRODID:-//Squarespace Inc/Squarespace 6//v6//EN
BEGIN:VEVENT
UID:5ae8ff2c2b6a28d382391ed5@squarespace.com
DTSTAMP:20180502T004851Z
DTSTART:20180502T000000Z
DTEND:20180502T010000Z
SUMMARY:Mother's Day
END:VEVENT
END:VCALENDAR
