BEGIN:VCALENDAR
VERSION:2.0
PRODID:-//Squarespace Inc/Squarespace 6//v6//EN
BEGIN:VEVENT
UID:597ab5841e5b6c7735cbf813@squarespace.com
DTSTAMP:20171211T231857Z
DTSTART:20171224T130000Z
DTEND:20171225T125900Z
SUMMARY:Christmas Day at Doncaster
GEO:-37.788502;145.119533
LOCATION:The Pancake Parlour\, 550 Doncaster Road\, Doncaster\, VIC\, 3108\
 , Australia
END:VEVENT
END:VCALENDAR
