BEGIN:VCALENDAR
VERSION:2.0
PRODID:-//Squarespace Inc/Squarespace 6//v6//EN
BEGIN:VEVENT
UID:59783f4429687fd190637687@squarespace.com
DTSTAMP:20170728T042734Z
DTSTART:20170902T140000Z
DTEND:20170903T135900Z
SUMMARY:Father's Day
END:VEVENT
END:VCALENDAR
