BEGIN:VCALENDAR
VERSION:2.0
PRODID:-//Squarespace Inc/Squarespace 6//v6//EN
BEGIN:VEVENT
UID:5a83b4d9e4966bfad9fc226a@squarespace.com
DTSTAMP:20190207T023955Z
DTSTART:20190207T020000Z
DTEND:20200210T085800Z
SUMMARY:Lunar New Year
END:VEVENT
END:VCALENDAR
