BEGIN:VCALENDAR
VERSION:2.0
PRODID:-//Squarespace Inc/Squarespace 6//v6//EN
BEGIN:VEVENT
UID:597ab75e9f7456ddab559ac7@squarespace.com
DTSTAMP:20180205T203841Z
DTSTART:20180212T200000Z
DTEND:20180213T125900Z
SUMMARY:Shrove Tuesday - Pancake Day
END:VEVENT
END:VCALENDAR
