BEGIN:VCALENDAR
VERSION:2.0
PRODID:-//Squarespace Inc/Squarespace 6//v6//EN
BEGIN:VEVENT
UID:597ab9f4440243827c500cf4@squarespace.com
DTSTAMP:20180214T042802Z
DTSTART:20180213T200000Z
DTEND:20180214T125900Z
SUMMARY:Valentine's Day
END:VEVENT
END:VCALENDAR
