BEGIN:VCALENDAR
VERSION:2.0
PRODID:-//Squarespace Inc/Squarespace 6//v6//EN
BEGIN:VEVENT
UID:5a83ba0b9140b75ef97f9b78@squarespace.com
DTSTAMP:20180214T044848Z
DTSTART:20180217T080000Z
DTEND:20180217T200000Z
SUMMARY:White Night 2018
END:VEVENT
END:VCALENDAR
